BEGIN:VCALENDAR
VERSION:2.0
PRODID:-//Photobrandstore - ECPv6.15.20//NONSGML v1.0//EN
CALSCALE:GREGORIAN
METHOD:PUBLISH
X-WR-CALNAME:Photobrandstore
X-ORIGINAL-URL:https://photobrandstore.nl
X-WR-CALDESC:Evenementen voor Photobrandstore
REFRESH-INTERVAL;VALUE=DURATION:PT1H
X-Robots-Tag:noindex
X-PUBLISHED-TTL:PT1H
BEGIN:VTIMEZONE
TZID:Europe/Amsterdam
BEGIN:DAYLIGHT
TZOFFSETFROM:+0100
TZOFFSETTO:+0200
TZNAME:CEST
DTSTART:20240331T010000
END:DAYLIGHT
BEGIN:STANDARD
TZOFFSETFROM:+0200
TZOFFSETTO:+0100
TZNAME:CET
DTSTART:20241027T010000
END:STANDARD
BEGIN:DAYLIGHT
TZOFFSETFROM:+0100
TZOFFSETTO:+0200
TZNAME:CEST
DTSTART:20250330T010000
END:DAYLIGHT
BEGIN:STANDARD
TZOFFSETFROM:+0200
TZOFFSETTO:+0100
TZNAME:CET
DTSTART:20251026T010000
END:STANDARD
BEGIN:DAYLIGHT
TZOFFSETFROM:+0100
TZOFFSETTO:+0200
TZNAME:CEST
DTSTART:20260329T010000
END:DAYLIGHT
BEGIN:STANDARD
TZOFFSETFROM:+0200
TZOFFSETTO:+0100
TZNAME:CET
DTSTART:20261025T010000
END:STANDARD
END:VTIMEZONE
BEGIN:VEVENT
DTSTART;TZID=Europe/Amsterdam:20250920T120000
DTEND;TZID=Europe/Amsterdam:20250920T160000
DTSTAMP:20260426T040635
CREATED:20250502T104358Z
LAST-MODIFIED:20250920T071131Z
UID:9990-1758369600-1758384000@photobrandstore.nl
SUMMARY:Lensbaby Experienceday in de Dorpskerk
DESCRIPTION:Op zaterdag 20 september organiseren we een bijzondere Lensbaby testdag in de prachtige Dorpskerk van Heemskerk. Samen met Arno de Kock van Transcontinenta en een Lensbaby ambassadeur gaan we aan de slag met deze unieke\, creatieve lenzen. \nOntdek de Creatieve Mogelijkheden met Lensbaby tijdens de Photobrandstore Lensbaby Experienceday! \nVerwacht geen standaard testdag:We zetten verschillende creatieve opstellingen klaar (ja\, zelfs met een rookmachine!) zodat jij de Lensbaby lenzen écht kunt ervaren. Of je nu werkt met Sony\, Nikon of Canon. Spiegelreflex of systeemcamera – er is voor iedereen iets te proberen. Zelfs als je met een bridgecamera werkt zoals de Sony DSC-RX10IV\, Panasonic Lumix FZ1000 is er een leuk creatief filtersysteem te proberen. \n📸 We demonstreren meerdere sets waar we het eerder over hadden. Van subtiel vervreemdend tot lekker dromerig – alles mag en kan! \nVoor slechts €10.- doe je mee aan deze inspirerende dag. En natuurlijk zorgen we voor koffie en thee bij aankomst. (Bij een eventuele aankoop krijg je je ticketprijs terug én uiteraard hebben we een mooie actie deze dag) \n🎟️ Beperkte plekken\, dus meld je snel aan!\nDit is hét moment om creatief te spelen met fotografie\, nieuwe technieken uit te proberen en samen te leren met andere fotografieliefhebbers. \nLensbaby staat bekend om zijn unieke benadering van fotografie\, waarbij het draait om het spelen met scherpte\, onscherpte en perspectief. \n📍 DORPSKERK HEEMSKERK | 🗓️ 20 SEPTEMBER | ⏰ 12.00 – 16.00 UUR
URL:https://photobrandstore.nl/events/lensbaby-experienceday-in-de-dorpskerk/
LOCATION:Dorpskerk Heemskerk\, Kerkplein 1\, Heemskerk\, 1961 EA
END:VEVENT
END:VCALENDAR